BEGIN:VCALENDAR
VERSION:2.0
CALSCALE:GREGORIAN
PRODID:adamgibbons/ics
METHOD:PUBLISH
X-PUBLISHED-TTL:PT1H
BEGIN:VEVENT
UID:244@durockrj.com.br
SUMMARY:Insanos MC Apresenta: Van Gloria
DTSTAMP:20260419T164223Z
DTSTART:20260429T220000Z
URL:https://durockrj.com.br/event/insanos-mc-apresenta-qvan-gloria
GEO:-22.9137725;-42.4768996
LOCATION:Garagem Arkan - Av. Saquarema\, 3035 - Porto da Roça\, Saquarema -
	 RJ
STATUS:CONFIRMED
CATEGORIES:gratuito,motoclube,regiao dos lagos,saquarema
END:VEVENT
END:VCALENDAR
